BEGIN:VCALENDAR
VERSION:2.0
PRODID:-//Appledore Music - ECPv6.15.20//NONSGML v1.0//EN
CALSCALE:GREGORIAN
METHOD:PUBLISH
X-ORIGINAL-URL:https://appledoremusic.co.uk
X-WR-CALDESC:Events for Appledore Music
REFRESH-INTERVAL;VALUE=DURATION:PT1H
X-Robots-Tag:noindex
X-PUBLISHED-TTL:PT1H
BEGIN:VTIMEZONE
TZID:UTC
BEGIN:STANDARD
TZOFFSETFROM:+0000
TZOFFSETTO:+0000
TZNAME:UTC
DTSTART:20240101T000000
END:STANDARD
END:VTIMEZONE
BEGIN:VEVENT
DTSTART;TZID=UTC:20250106T203000
DTEND;TZID=UTC:20250106T223000
DTSTAMP:20260419T141139
CREATED:20241220T114541Z
LAST-MODIFIED:20241220T115328Z
UID:4913-1736195400-1736202600@appledoremusic.co.uk
SUMMARY:You are Here - North Devon Jazz Club
DESCRIPTION:You Are Here is a new sextet formed  by Bristol-based saxophonist and composer Kevin Figes to play the music of the late Keith Tippett and the bands and music he was associated with. The band will appear at North Devon Jazz Club in The Beaver\, Appledore on 6 January and will feature trumpeter Pete Judge\, trombonist Ralph Clarkson and pianist Jim Blomfield. \nPraised by Jazzwise Magazine for “many moments of unleashed creative inspiration and original musical joy” the sextet will perform a selection of Tippett’s epic compositions alongside those of Elton Dean from Soft Machine and Chris McGregor’s work with Brotherhood of Breath\, harking back to the exciting period in the 1960s when exiled South African musicians settled in the UK and enlivened the jazz scene. \nThe gig is at 8:30pm and is hosted by the North Devon Jazz Club. Keep up the good work NDJC. There is no entrance fee\, however a collection is taken for the band.  \nFor a meal booking phone The Beaver on 01237 474822.
URL:https://appledoremusic.co.uk/event/you-are-here-north-devon-jazz-club/
LOCATION:The Beaver\, Irsha Street\, Appledore\, Devon\, EX39 1RY\, United Kingdom
CATEGORIES:The Beaver
ATTACH;FMTTYPE=image/jpeg:https://appledoremusic.co.uk/wp-content/uploads/2024/12/you-are-here-feat.jpg
END:VEVENT
BEGIN:VEVENT
DTSTART;TZID=UTC:20250118T210000
DTEND;TZID=UTC:20250118T230000
DTSTAMP:20260419T141139
CREATED:20250116T200438Z
LAST-MODIFIED:20250116T200438Z
UID:4937-1737234000-1737241200@appledoremusic.co.uk
SUMMARY:Jamie "Punk" Floyde
DESCRIPTION:The Beaver is breaking new ground on Saturday with a performance by Jamie “Punk” Floyde. Famous for his UK based alternative act L.A. Funeral\, Jamie will be playing classic punk covers and originals to a lively Beaver audience. Not to be missed. You can check out L.A. Funeral on Spotify.
URL:https://appledoremusic.co.uk/event/jamie-punk-floyde/
LOCATION:The Beaver\, Irsha Street\, Appledore\, Devon\, EX39 1RY\, United Kingdom
CATEGORIES:The Beaver
ATTACH;FMTTYPE=image/jpeg:https://appledoremusic.co.uk/wp-content/uploads/2025/01/jamiefloyde-feat.jpg
END:VEVENT
BEGIN:VEVENT
DTSTART;TZID=UTC:20250120T203000
DTEND;TZID=UTC:20250120T233000
DTSTAMP:20260419T141139
CREATED:20250119T191742Z
LAST-MODIFIED:20250119T191742Z
UID:4944-1737405000-1737415800@appledoremusic.co.uk
SUMMARY:Will Butterworth Trio
DESCRIPTION:Described by Time Out Magazine as a jazz pianist ‘who plays with spacious and fractious beauty’\, Will Butterworth and his trio  perform a programme of intense and exhilarating  music. \nWill is joined by bassist Marcus Vergette and drummer Preston Prince to play a programme of Will’s compositions and standards. To quote a review by Jazzmann of  the album Will Butterworth Trio Live their music is  ‘a stimulating three way discussion for piano\, bass and drums\, an encapsulation of all that’s good about this exceptional trio.’ Ian Patterson of All About Jazz has written about Will’s ‘starkly beautiful melodies and simple rhythms juxtaposed against intricate contours and free-wheeling improvisations…’ \nThe gig is at 8:30pm and is hosted by the North Devon Jazz Club. Keep up the good work NDJC. There is no entrance fee\, however a collection is taken for the band.  \nFor a meal booking phone The Beaver on 01237 474822.
URL:https://appledoremusic.co.uk/event/will-butterworth-trio/
LOCATION:The Beaver\, Irsha Street\, Appledore\, Devon\, EX39 1RY\, United Kingdom
CATEGORIES:The Beaver
ATTACH;FMTTYPE=image/jpeg:https://appledoremusic.co.uk/wp-content/uploads/2025/01/will-butterworth-feat.jpg
END:VEVENT
BEGIN:VEVENT
DTSTART;TZID=UTC:20250125T210000
DTEND;TZID=UTC:20250125T230000
DTSTAMP:20260419T141139
CREATED:20250122T200832Z
LAST-MODIFIED:20250122T200832Z
UID:4954-1737838800-1737846000@appledoremusic.co.uk
SUMMARY:Appledore Ceilidh Band
DESCRIPTION:The Appledore Ceilidh Band first performed at the 2024 Appledore Music Festival and have sold out St Mary’s Church Hall twice. Here’s a chance to see them for free at the Beaver. Led by Sophie Randles-Dunkley\, the talentented band will play a delectable choice of jigs and reels.
URL:https://appledoremusic.co.uk/event/appledore-ceilidh-band-2/
LOCATION:The Beaver\, Irsha Street\, Appledore\, Devon\, EX39 1RY\, United Kingdom
CATEGORIES:The Beaver
END:VEVENT
END:VCALENDAR