BEGIN:VCALENDAR
VERSION:2.0
PRODID:-//Appledore Music - ECPv6.15.20//NONSGML v1.0//EN
CALSCALE:GREGORIAN
METHOD:PUBLISH
X-WR-CALNAME:Appledore Music
X-ORIGINAL-URL:https://appledoremusic.co.uk
X-WR-CALDESC:Events for Appledore Music
REFRESH-INTERVAL;VALUE=DURATION:PT1H
X-Robots-Tag:noindex
X-PUBLISHED-TTL:PT1H
BEGIN:VTIMEZONE
TZID:Europe/Paris
BEGIN:DAYLIGHT
TZOFFSETFROM:+0100
TZOFFSETTO:+0200
TZNAME:CEST
DTSTART:20230326T010000
END:DAYLIGHT
BEGIN:STANDARD
TZOFFSETFROM:+0200
TZOFFSETTO:+0100
TZNAME:CET
DTSTART:20231029T010000
END:STANDARD
BEGIN:DAYLIGHT
TZOFFSETFROM:+0100
TZOFFSETTO:+0200
TZNAME:CEST
DTSTART:20240331T010000
END:DAYLIGHT
BEGIN:STANDARD
TZOFFSETFROM:+0200
TZOFFSETTO:+0100
TZNAME:CET
DTSTART:20241027T010000
END:STANDARD
BEGIN:DAYLIGHT
TZOFFSETFROM:+0100
TZOFFSETTO:+0200
TZNAME:CEST
DTSTART:20250330T010000
END:DAYLIGHT
BEGIN:STANDARD
TZOFFSETFROM:+0200
TZOFFSETTO:+0100
TZNAME:CET
DTSTART:20251026T010000
END:STANDARD
END:VTIMEZONE
BEGIN:VEVENT
DTSTART;TZID=Europe/Paris:20240902T200000
DTEND;TZID=Europe/Paris:20240902T223000
DTSTAMP:20260423T114422
CREATED:20240817T105730Z
LAST-MODIFIED:20240817T105730Z
UID:4796-1725307200-1725316200@appledoremusic.co.uk
SUMMARY:Q T Swing
DESCRIPTION:Q T Swing is a spin-off from Bideford-based End of the Road\, famed throughout North Devon for their interpretation of jazz and blues classic songs. They are a trio or sometime quartet formed from the 6 members of End of the Road\, almost certainly including Marty on tenor sax and John  on rhythm guitar\, slide guitar\, occasional lap steel and vocals. See them at the Beaver
URL:https://appledoremusic.co.uk/event/q-t-swing/
LOCATION:The Beaver\, Irsha Street\, Appledore\, Devon\, EX39 1RY\, United Kingdom
CATEGORIES:The Beaver
ATTACH;FMTTYPE=image/png:https://appledoremusic.co.uk/wp-content/uploads/2024/08/q-t-swing-feat.png
END:VEVENT
BEGIN:VEVENT
DTSTART;TZID=Europe/Paris:20240916T080000
DTEND;TZID=Europe/Paris:20240916T170000
DTSTAMP:20260423T114422
CREATED:20240827T190124Z
LAST-MODIFIED:20240827T191148Z
UID:4805-1726473600-1726506000@appledoremusic.co.uk
SUMMARY:Nicolas Meier World Group - presented by the North Devon Jazz Club
DESCRIPTION:UK-based guitarist Nicolas Meier has carved a reputation out as one of the world’s most original and uniquely talented guitarists. Drawing from a love of Turkish\, Eastern & Middle Eastern music\, Flamenco\, Tango and more -all mixed with jazz – Meier’s versatility and musical fluency extends well beyond that.  \nMeier\, originally  from Switzerland\, has recorded and played with Jeff Beck and Bill Bruford amongst many others\, and has released several albums under his own name. Loads more information and tasters of his music on his website. \nThe gig is hosted by the North Devon Jazz Club. Keep up the good work NDJC. There is no entrance fee\, however a collection is taken for the band.
URL:https://appledoremusic.co.uk/event/nicolas-meir-world-group/
LOCATION:The Beaver\, Irsha Street\, Appledore\, Devon\, EX39 1RY\, United Kingdom
CATEGORIES:The Beaver
ATTACH;FMTTYPE=image/jpeg:https://appledoremusic.co.uk/wp-content/uploads/2024/08/Nicholas-Meier-feat.jpg
END:VEVENT
BEGIN:VEVENT
DTSTART;TZID=Europe/Paris:20240919T203000
DTEND;TZID=Europe/Paris:20240919T230000
DTSTAMP:20260423T114422
CREATED:20240913T110037Z
LAST-MODIFIED:20240913T124259Z
UID:4817-1726777800-1726786800@appledoremusic.co.uk
SUMMARY:Absent Minds
DESCRIPTION:Absent Minds are a four piece from Torrington who have a shared passion for music and performance. Theylove to play everything from Ska to Pop Rock\, and Blues to Rock ‘n’ Roll. Find out more on Insta or on their Facebook page.
URL:https://appledoremusic.co.uk/event/absent-minds/
LOCATION:The Champ\, 5 Meeting St\, Appledore\, EX39 1RJ\, United Kingdom
CATEGORIES:The Champ
ATTACH;FMTTYPE=image/jpeg:https://appledoremusic.co.uk/wp-content/uploads/2024/09/Absent-Minds-feat.jpg
END:VEVENT
BEGIN:VEVENT
DTSTART;TZID=Europe/Paris:20240921T203000
DTEND;TZID=Europe/Paris:20240921T230000
DTSTAMP:20260423T114422
CREATED:20230902T140050Z
LAST-MODIFIED:20240913T113138Z
UID:4000-1726950600-1726959600@appledoremusic.co.uk
SUMMARY:The Weeds
DESCRIPTION:The Weeds are returning to the Champ They’re a band that play originals influenced by the likes of Eels\, Arcade Fire\, Elbow\, Tom Waits and Neil Young. \nhey’re
URL:https://appledoremusic.co.uk/event/the-weeds-with-gurthrie-kennard/
LOCATION:The Champ\, 5 Meeting St\, Appledore\, EX39 1RJ\, United Kingdom
CATEGORIES:The Champ
ATTACH;FMTTYPE=image/jpeg:https://appledoremusic.co.uk/wp-content/uploads/2023/09/the-weeds-feat.jpg
END:VEVENT
BEGIN:VEVENT
DTSTART;TZID=Europe/Paris:20240921T210000
DTEND;TZID=Europe/Paris:20240921T230000
DTSTAMP:20260423T114422
CREATED:20240920T182044Z
LAST-MODIFIED:20240920T182805Z
UID:4830-1726952400-1726959600@appledoremusic.co.uk
SUMMARY:The Modlites
DESCRIPTION:The Modlites are a five-piece band that perform a range of numbers in the Mod genre. Spanning from the mid sixties through the decades. So you can expect plenty of Jam\, Kinks\, Small Faces\, Dexys with a dash of Motown and northern soul.
URL:https://appledoremusic.co.uk/event/the-modlites/
LOCATION:The Royal Hotel\, 2A Bude Street\, Appledore\, Devon\, EX39 1PS\, United Kingdom
CATEGORIES:Royal Hotel
ATTACH;FMTTYPE=image/jpeg:https://appledoremusic.co.uk/wp-content/uploads/2024/09/Modlites-Royal-feat.jpg
END:VEVENT
END:VCALENDAR