BEGIN:VCALENDAR
VERSION:2.0
PRODID:-//Appledore Music - ECPv6.15.20//NONSGML v1.0//EN
CALSCALE:GREGORIAN
METHOD:PUBLISH
X-ORIGINAL-URL:https://appledoremusic.co.uk
X-WR-CALDESC:Events for Appledore Music
REFRESH-INTERVAL;VALUE=DURATION:PT1H
X-Robots-Tag:noindex
X-PUBLISHED-TTL:PT1H
BEGIN:VTIMEZONE
TZID:Europe/Paris
BEGIN:DAYLIGHT
TZOFFSETFROM:+0100
TZOFFSETTO:+0200
TZNAME:CEST
DTSTART:20250330T010000
END:DAYLIGHT
BEGIN:STANDARD
TZOFFSETFROM:+0200
TZOFFSETTO:+0100
TZNAME:CET
DTSTART:20251026T010000
END:STANDARD
BEGIN:DAYLIGHT
TZOFFSETFROM:+0100
TZOFFSETTO:+0200
TZNAME:CEST
DTSTART:20260329T010000
END:DAYLIGHT
BEGIN:STANDARD
TZOFFSETFROM:+0200
TZOFFSETTO:+0100
TZNAME:CET
DTSTART:20261025T010000
END:STANDARD
BEGIN:DAYLIGHT
TZOFFSETFROM:+0100
TZOFFSETTO:+0200
TZNAME:CEST
DTSTART:20270328T010000
END:DAYLIGHT
BEGIN:STANDARD
TZOFFSETFROM:+0200
TZOFFSETTO:+0100
TZNAME:CET
DTSTART:20271031T010000
END:STANDARD
END:VTIMEZONE
BEGIN:VEVENT
DTSTART;VALUE=DATE:20260828
DTEND;VALUE=DATE:20260901
DTSTAMP:20260423T133442
CREATED:20260127T164512Z
LAST-MODIFIED:20260127T170646Z
UID:5502-1787882400-1788141599@appledoremusic.co.uk
SUMMARY:Quadrophenia Weekender
DESCRIPTION:Taking place in the gardens of the renowned Guillemot in Westward Ho!\, this is a true Mod delight. Across August Bank Holiday Weekend\, a stack of mod and ska bands will bring the sounds of the mod era to the North Devon coast. To cement the festival’s credentials\, the sea front will be chocka with Lambrettas sporting a stunning array of mirrors\, lights and chrome accessoriers.  \nThe weekend line-up runs as follows: \nFriday 28 August \n\nComplete Madness\nThe Nomads\n\nSaturday 29 August  \n\nWho’s Next\nD’Ska Assassins\nThe Modlites\n\nSunday 30 August \n\nSka Bucks\nA Band Called Malice\nPretty Green\n\nTicket prices are £40 for the whole weekend\, or £12 on Friday and £20 each for Saturday and Sunday. \nSee poster below for times.
URL:https://appledoremusic.co.uk/event/quadrophenia-weekender/
LOCATION:Guillemot\, The Guillemot Bar\, Gardens & Restaurant\, Latitude 51\, Westward Ho!\, EX39 1GW
ATTACH;FMTTYPE=image/jpeg:https://appledoremusic.co.uk/wp-content/uploads/2026/01/Quadrophenia-Poster-feat.jpg
END:VEVENT
BEGIN:VEVENT
DTSTART;TZID=Europe/Paris:20260907T190000
DTEND;TZID=Europe/Paris:20260907T200000
DTSTAMP:20260423T133443
CREATED:20230727T144005Z
LAST-MODIFIED:20260421T132545Z
UID:3826-1788807600-1788811200@appledoremusic.co.uk
SUMMARY:Applecorers Shanty and food drive
DESCRIPTION:Appledore’s own sea shanty ensemble\, the Applecorers\, perform at the Champ. The Applecorers sing traditional sea shanties. It is easy to imagine\, listening to this choir\, the days when Appledore’s streets were full of sailors and shipbuilders. Their rousing songs of the sea will lift your spirits and warm your heart. \nThis is an Appledore Music Festival pre-festival gig. \nThe evening is also a food drive. There will be a collection of food donations for the Northern Devon food bank. Thanks to Kaye for organising the collection. If you can\, please bring along some of the urgently-needed items listed below: \n\nTinned Vegetables\nTinned Fruit\nCorned Beef\nLong Life Juice\nHam & Chopped Pork\nTinned Custard\nSponge Puddings\nInstant Coffee\nSnack Bars\nJam\nBiscuits
URL:https://appledoremusic.co.uk/event/applecorers-shanty-songs-of-the-sea/
LOCATION:The Champ\, 5 Meeting St\, Appledore\, EX39 1RJ\, United Kingdom
CATEGORIES:Applecorers,The Champ
ATTACH;FMTTYPE=image/jpeg:https://appledoremusic.co.uk/wp-content/uploads/2023/07/applecorers-shanty-feat.jpg
END:VEVENT
END:VCALENDAR