BEGIN:VCALENDAR
VERSION:2.0
PRODID:-//Appledore Music - ECPv6.15.20//NONSGML v1.0//EN
CALSCALE:GREGORIAN
METHOD:PUBLISH
X-ORIGINAL-URL:https://appledoremusic.co.uk
X-WR-CALDESC:Events for Appledore Music
REFRESH-INTERVAL;VALUE=DURATION:PT1H
X-Robots-Tag:noindex
X-PUBLISHED-TTL:PT1H
BEGIN:VTIMEZONE
TZID:Europe/Paris
BEGIN:DAYLIGHT
TZOFFSETFROM:+0100
TZOFFSETTO:+0200
TZNAME:CEST
DTSTART:20240331T010000
END:DAYLIGHT
BEGIN:STANDARD
TZOFFSETFROM:+0200
TZOFFSETTO:+0100
TZNAME:CET
DTSTART:20241027T010000
END:STANDARD
BEGIN:DAYLIGHT
TZOFFSETFROM:+0100
TZOFFSETTO:+0200
TZNAME:CEST
DTSTART:20250330T010000
END:DAYLIGHT
BEGIN:STANDARD
TZOFFSETFROM:+0200
TZOFFSETTO:+0100
TZNAME:CET
DTSTART:20251026T010000
END:STANDARD
BEGIN:DAYLIGHT
TZOFFSETFROM:+0100
TZOFFSETTO:+0200
TZNAME:CEST
DTSTART:20260329T010000
END:DAYLIGHT
BEGIN:STANDARD
TZOFFSETFROM:+0200
TZOFFSETTO:+0100
TZNAME:CET
DTSTART:20261025T010000
END:STANDARD
END:VTIMEZONE
BEGIN:VEVENT
DTSTART;TZID=Europe/Paris:20250414T203000
DTEND;TZID=Europe/Paris:20250414T223000
DTSTAMP:20260423T225726
CREATED:20250329T104331Z
LAST-MODIFIED:20250329T104814Z
UID:5057-1744662600-1744669800@appledoremusic.co.uk
SUMMARY:Jonthan Gee Trio with Roberto Manzin - presented by North Devon Jazz Club
DESCRIPTION:Italian Saxophonist Joins Top UK Pianist \nItalian saxophonist Roberto Manzin will join a trio led by top UK pianist Jonathan Gee at North Devon Jazz Club in The Beaver\, Appledore on 14th April. \nWith a technique described by Time Out as ‘scorching’ Manzin has received rave reviews for his playing. Jazzwise Magazine recommended him as ‘ to be heard to be believed’ and ‘as a melodist first and foremost\, who gradually unfolds a solo and builds up to a compelling conclusion’ while London Jazz described his playing as having ‘something of the chromatic excitement of (Michael) Brecker and the soulfulness of (David) Sanborn’. \nPianist Jonathan Gee has been praised by the Independent as a  ‘reflective\, beautifully poised pianist’ \, by Time Out as ‘sparky and sensitive’  and by Jazzwise Magazine for ‘his breathlessly sparkling originality’. \nThe two musicians will be joined by the fine rhythm team of Marcus Vergette on bass and Louie North on drums. \nThe gig is hosted by the North Devon Jazz Club. Thank you NDJC. There is no entrance fee\, however a collection is taken for the band. For a meal booking please phone The Beaver on 01237 474822
URL:https://appledoremusic.co.uk/event/jonthan-gee-trio-with-roberto-manzin-presented-by-north-devon-jazz-club/
LOCATION:The Beaver\, Irsha Street\, Appledore\, Devon\, EX39 1RY\, United Kingdom
CATEGORIES:The Beaver
ATTACH;FMTTYPE=image/jpeg:https://appledoremusic.co.uk/wp-content/uploads/2025/03/jonathan-gee-feat.jpg
END:VEVENT
END:VCALENDAR