BEGIN:VCALENDAR
VERSION:2.0
PRODID:-//Appledore Music - ECPv6.15.20//NONSGML v1.0//EN
CALSCALE:GREGORIAN
METHOD:PUBLISH
X-ORIGINAL-URL:https://appledoremusic.co.uk
X-WR-CALDESC:Events for Appledore Music
REFRESH-INTERVAL;VALUE=DURATION:PT1H
X-Robots-Tag:noindex
X-PUBLISHED-TTL:PT1H
BEGIN:VTIMEZONE
TZID:UTC
BEGIN:STANDARD
TZOFFSETFROM:+0000
TZOFFSETTO:+0000
TZNAME:UTC
DTSTART:20230101T000000
END:STANDARD
END:VTIMEZONE
BEGIN:VEVENT
DTSTART;TZID=UTC:20241116T210000
DTEND;TZID=UTC:20241116T230000
DTSTAMP:20260421T084332
CREATED:20210316T203017Z
LAST-MODIFIED:20241111T185407Z
UID:1235-1731790800-1731798000@appledoremusic.co.uk
SUMMARY:The Jukes
DESCRIPTION:The Jukes are a four piece band playing authentic good time rock and roll roots\, rhythm and blues\, and rockabilly\, with a dash of jump jive for good measure. The set list includes classics from Slim Harpo and T Bone Walker to Carl Perkins\, Big Joe Turner and Bill Haley\, to name but a few. This ever-popular rock’n’roll roots band will be rocking the Beaver once again.   \nMore on their Facebook page.
URL:https://appledoremusic.co.uk/event/the-jukes/
LOCATION:The Beaver\, Irsha Street\, Appledore\, Devon\, EX39 1RY\, United Kingdom
CATEGORIES:The Beaver
ATTACH;FMTTYPE=image/png:https://appledoremusic.co.uk/wp-content/uploads/2021/03/thejukes_head.png
END:VEVENT
END:VCALENDAR