BEGIN:VCALENDAR
VERSION:2.0
PRODID:-//Appledore Music - ECPv6.15.20//NONSGML v1.0//EN
CALSCALE:GREGORIAN
METHOD:PUBLISH
X-ORIGINAL-URL:https://appledoremusic.co.uk
X-WR-CALDESC:Events for Appledore Music
REFRESH-INTERVAL;VALUE=DURATION:PT1H
X-Robots-Tag:noindex
X-PUBLISHED-TTL:PT1H
BEGIN:VTIMEZONE
TZID:UTC
BEGIN:STANDARD
TZOFFSETFROM:+0000
TZOFFSETTO:+0000
TZNAME:UTC
DTSTART:20230101T000000
END:STANDARD
END:VTIMEZONE
BEGIN:VEVENT
DTSTART;TZID=UTC:20241109T210000
DTEND;TZID=UTC:20241109T230000
DTSTAMP:20260423T100950
CREATED:20230109T161730Z
LAST-MODIFIED:20241102T182504Z
UID:3051-1731186000-1731193200@appledoremusic.co.uk
SUMMARY:Joy Machine
DESCRIPTION:Joy Machine are a band created from a love and passion for all genres of music\, from sixties to the present day. Joy Machine are not to be confused with Joy Division\, an entirely separate\, less joyous and now defunct band.
URL:https://appledoremusic.co.uk/event/joy-machine/
LOCATION:The Beaver\, Irsha Street\, Appledore\, Devon\, EX39 1RY\, United Kingdom
CATEGORIES:The Beaver
ATTACH;FMTTYPE=image/jpeg:https://appledoremusic.co.uk/wp-content/uploads/2022/11/JoyMachine_feat.jpg
END:VEVENT
END:VCALENDAR