BEGIN:VCALENDAR
VERSION:2.0
PRODID:-//Appledore Music - ECPv6.15.20//NONSGML v1.0//EN
CALSCALE:GREGORIAN
METHOD:PUBLISH
X-WR-CALNAME:Appledore Music
X-ORIGINAL-URL:https://appledoremusic.co.uk
X-WR-CALDESC:Events for Appledore Music
REFRESH-INTERVAL;VALUE=DURATION:PT1H
X-Robots-Tag:noindex
X-PUBLISHED-TTL:PT1H
BEGIN:VTIMEZONE
TZID:Europe/Paris
BEGIN:DAYLIGHT
TZOFFSETFROM:+0100
TZOFFSETTO:+0200
TZNAME:CEST
DTSTART:20230326T010000
END:DAYLIGHT
BEGIN:STANDARD
TZOFFSETFROM:+0200
TZOFFSETTO:+0100
TZNAME:CET
DTSTART:20231029T010000
END:STANDARD
BEGIN:DAYLIGHT
TZOFFSETFROM:+0100
TZOFFSETTO:+0200
TZNAME:CEST
DTSTART:20240331T010000
END:DAYLIGHT
BEGIN:STANDARD
TZOFFSETFROM:+0200
TZOFFSETTO:+0100
TZNAME:CET
DTSTART:20241027T010000
END:STANDARD
BEGIN:DAYLIGHT
TZOFFSETFROM:+0100
TZOFFSETTO:+0200
TZNAME:CEST
DTSTART:20250330T010000
END:DAYLIGHT
BEGIN:STANDARD
TZOFFSETFROM:+0200
TZOFFSETTO:+0100
TZNAME:CET
DTSTART:20251026T010000
END:STANDARD
END:VTIMEZONE
BEGIN:VEVENT
DTSTART;TZID=Europe/Paris:20240919T203000
DTEND;TZID=Europe/Paris:20240919T230000
DTSTAMP:20260423T132703
CREATED:20240913T110037Z
LAST-MODIFIED:20240913T124259Z
UID:4817-1726777800-1726786800@appledoremusic.co.uk
SUMMARY:Absent Minds
DESCRIPTION:Absent Minds are a four piece from Torrington who have a shared passion for music and performance. Theylove to play everything from Ska to Pop Rock\, and Blues to Rock ‘n’ Roll. Find out more on Insta or on their Facebook page.
URL:https://appledoremusic.co.uk/event/absent-minds/
LOCATION:The Champ\, 5 Meeting St\, Appledore\, EX39 1RJ\, United Kingdom
CATEGORIES:The Champ
ATTACH;FMTTYPE=image/jpeg:https://appledoremusic.co.uk/wp-content/uploads/2024/09/Absent-Minds-feat.jpg
END:VEVENT
END:VCALENDAR