BEGIN:VCALENDAR
VERSION:2.0
PRODID:-//Appledore Music - ECPv6.15.20//NONSGML v1.0//EN
CALSCALE:GREGORIAN
METHOD:PUBLISH
X-ORIGINAL-URL:https://appledoremusic.co.uk
X-WR-CALDESC:Events for Appledore Music
REFRESH-INTERVAL;VALUE=DURATION:PT1H
X-Robots-Tag:noindex
X-PUBLISHED-TTL:PT1H
BEGIN:VTIMEZONE
TZID:Europe/Paris
BEGIN:DAYLIGHT
TZOFFSETFROM:+0100
TZOFFSETTO:+0200
TZNAME:CEST
DTSTART:20230326T010000
END:DAYLIGHT
BEGIN:STANDARD
TZOFFSETFROM:+0200
TZOFFSETTO:+0100
TZNAME:CET
DTSTART:20231029T010000
END:STANDARD
BEGIN:DAYLIGHT
TZOFFSETFROM:+0100
TZOFFSETTO:+0200
TZNAME:CEST
DTSTART:20240331T010000
END:DAYLIGHT
BEGIN:STANDARD
TZOFFSETFROM:+0200
TZOFFSETTO:+0100
TZNAME:CET
DTSTART:20241027T010000
END:STANDARD
BEGIN:DAYLIGHT
TZOFFSETFROM:+0100
TZOFFSETTO:+0200
TZNAME:CEST
DTSTART:20250330T010000
END:DAYLIGHT
BEGIN:STANDARD
TZOFFSETFROM:+0200
TZOFFSETTO:+0100
TZNAME:CET
DTSTART:20251026T010000
END:STANDARD
END:VTIMEZONE
BEGIN:VEVENT
DTSTART;TZID=Europe/Paris:20240826T200000
DTEND;TZID=Europe/Paris:20240826T223000
DTSTAMP:20260423T132951
CREATED:20230205T194031Z
LAST-MODIFIED:20240805T143542Z
UID:3139-1724702400-1724711400@appledoremusic.co.uk
SUMMARY:Eve Parker
DESCRIPTION:The incredibly talented fiddle player Eve Parker is playing at the Beaver on Monday evening. The performance will be enjoyed by family and friends\, not least because she lives in Appledore and works part time at the Beaver to boot. In fact her dad\, Ant\, will be accompanying her on guitar. Come along and have a listen to Eve before she gets so famous that you will have to pay to see her.
URL:https://appledoremusic.co.uk/event/eve-parker/
LOCATION:The Beaver\, Irsha Street\, Appledore\, Devon\, EX39 1RY\, United Kingdom
CATEGORIES:The Beaver
ATTACH;FMTTYPE=image/jpeg:https://appledoremusic.co.uk/wp-content/uploads/2023/02/Eve-Parker-feat.jpg
END:VEVENT
END:VCALENDAR