BEGIN:VCALENDAR
VERSION:2.0
PRODID:-//Appledore Music - ECPv6.15.20//NONSGML v1.0//EN
CALSCALE:GREGORIAN
METHOD:PUBLISH
X-WR-CALNAME:Appledore Music
X-ORIGINAL-URL:https://appledoremusic.co.uk
X-WR-CALDESC:Events for Appledore Music
REFRESH-INTERVAL;VALUE=DURATION:PT1H
X-Robots-Tag:noindex
X-PUBLISHED-TTL:PT1H
BEGIN:VTIMEZONE
TZID:Europe/Paris
BEGIN:DAYLIGHT
TZOFFSETFROM:+0100
TZOFFSETTO:+0200
TZNAME:CEST
DTSTART:20230326T010000
END:DAYLIGHT
BEGIN:STANDARD
TZOFFSETFROM:+0200
TZOFFSETTO:+0100
TZNAME:CET
DTSTART:20231029T010000
END:STANDARD
BEGIN:DAYLIGHT
TZOFFSETFROM:+0100
TZOFFSETTO:+0200
TZNAME:CEST
DTSTART:20240331T010000
END:DAYLIGHT
BEGIN:STANDARD
TZOFFSETFROM:+0200
TZOFFSETTO:+0100
TZNAME:CET
DTSTART:20241027T010000
END:STANDARD
BEGIN:DAYLIGHT
TZOFFSETFROM:+0100
TZOFFSETTO:+0200
TZNAME:CEST
DTSTART:20250330T010000
END:DAYLIGHT
BEGIN:STANDARD
TZOFFSETFROM:+0200
TZOFFSETTO:+0100
TZNAME:CET
DTSTART:20251026T010000
END:STANDARD
END:VTIMEZONE
BEGIN:VEVENT
DTSTART;TZID=Europe/Paris:20240420T193000
DTEND;TZID=Europe/Paris:20240420T230000
DTSTAMP:20260419T154021
CREATED:20240229T160025Z
LAST-MODIFIED:20240229T163100Z
UID:4446-1713641400-1713654000@appledoremusic.co.uk
SUMMARY:Carnaby Street
DESCRIPTION:Carnaby Street are a five piece sixties tribute act\, coming to the Royal North Devon Golf Club in April.  \nTickets can be purchased by calling the club on 01236 473817. The ticket price is £30\, which includes dinner. Call the Royal North Devon Golf Club on 01237 473817 to book.
URL:https://appledoremusic.co.uk/event/carnaby-street/
LOCATION:Royal North Devon Golf Club\, Golf Links Road\, Westward Ho!\, Bideford\, EX39 1HD\, United Kingdom
CATEGORIES:Royal North Devon Golf Club
ATTACH;FMTTYPE=image/jpeg:https://appledoremusic.co.uk/wp-content/uploads/2024/02/carnaby-street-feat.jpg
END:VEVENT
END:VCALENDAR