BEGIN:VCALENDAR
VERSION:2.0
PRODID:-//Appledore Music - ECPv6.15.20//NONSGML v1.0//EN
CALSCALE:GREGORIAN
METHOD:PUBLISH
X-WR-CALNAME:Appledore Music
X-ORIGINAL-URL:https://appledoremusic.co.uk
X-WR-CALDESC:Events for Appledore Music
REFRESH-INTERVAL;VALUE=DURATION:PT1H
X-Robots-Tag:noindex
X-PUBLISHED-TTL:PT1H
BEGIN:VTIMEZONE
TZID:Europe/Paris
BEGIN:DAYLIGHT
TZOFFSETFROM:+0100
TZOFFSETTO:+0200
TZNAME:CEST
DTSTART:20230326T010000
END:DAYLIGHT
BEGIN:STANDARD
TZOFFSETFROM:+0200
TZOFFSETTO:+0100
TZNAME:CET
DTSTART:20231029T010000
END:STANDARD
BEGIN:DAYLIGHT
TZOFFSETFROM:+0100
TZOFFSETTO:+0200
TZNAME:CEST
DTSTART:20240331T010000
END:DAYLIGHT
BEGIN:STANDARD
TZOFFSETFROM:+0200
TZOFFSETTO:+0100
TZNAME:CET
DTSTART:20241027T010000
END:STANDARD
BEGIN:DAYLIGHT
TZOFFSETFROM:+0100
TZOFFSETTO:+0200
TZNAME:CEST
DTSTART:20250330T010000
END:DAYLIGHT
BEGIN:STANDARD
TZOFFSETFROM:+0200
TZOFFSETTO:+0100
TZNAME:CET
DTSTART:20251026T010000
END:STANDARD
END:VTIMEZONE
BEGIN:VEVENT
DTSTART;TZID=Europe/Paris:20240418T203000
DTEND;TZID=Europe/Paris:20240418T230000
DTSTAMP:20260423T113440
CREATED:20240406T152243Z
LAST-MODIFIED:20240406T153637Z
UID:4522-1713472200-1713481200@appledoremusic.co.uk
SUMMARY:LunaBarge
DESCRIPTION:Buckinghamshire-based Lunabarge are doing a mini-tour of Devon and Cornwall – the Cream Tea Excursion tour. Which reminds us of the Devon-Cornwall rock festival a few years back. It was cancelled at the last minute. Cream and the Jam were down as headliners but the organisers couldn’t agree which should go on first. \nLunabarge are double stomping upbeat indie-folk with catchy original songs. Catch them at the Champ on Thursday 18 April.
URL:https://appledoremusic.co.uk/event/lunabarge/
LOCATION:The Champ\, 5 Meeting St\, Appledore\, EX39 1RJ\, United Kingdom
CATEGORIES:The Champ
ATTACH;FMTTYPE=image/jpeg:https://appledoremusic.co.uk/wp-content/uploads/2024/04/lunabarge-feat.jpg
END:VEVENT
END:VCALENDAR