BEGIN:VCALENDAR
VERSION:2.0
PRODID:-//Appledore Music - ECPv6.15.20//NONSGML v1.0//EN
CALSCALE:GREGORIAN
METHOD:PUBLISH
X-ORIGINAL-URL:https://appledoremusic.co.uk
X-WR-CALDESC:Events for Appledore Music
REFRESH-INTERVAL;VALUE=DURATION:PT1H
X-Robots-Tag:noindex
X-PUBLISHED-TTL:PT1H
BEGIN:VTIMEZONE
TZID:Europe/Paris
BEGIN:DAYLIGHT
TZOFFSETFROM:+0100
TZOFFSETTO:+0200
TZNAME:CEST
DTSTART:20200329T010000
END:DAYLIGHT
BEGIN:STANDARD
TZOFFSETFROM:+0200
TZOFFSETTO:+0100
TZNAME:CET
DTSTART:20201025T010000
END:STANDARD
BEGIN:DAYLIGHT
TZOFFSETFROM:+0100
TZOFFSETTO:+0200
TZNAME:CEST
DTSTART:20210328T010000
END:DAYLIGHT
BEGIN:STANDARD
TZOFFSETFROM:+0200
TZOFFSETTO:+0100
TZNAME:CET
DTSTART:20211031T010000
END:STANDARD
BEGIN:DAYLIGHT
TZOFFSETFROM:+0100
TZOFFSETTO:+0200
TZNAME:CEST
DTSTART:20220327T010000
END:DAYLIGHT
BEGIN:STANDARD
TZOFFSETFROM:+0200
TZOFFSETTO:+0100
TZNAME:CET
DTSTART:20221030T010000
END:STANDARD
END:VTIMEZONE
BEGIN:VEVENT
DTSTART;TZID=Europe/Paris:20211022T190000
DTEND;TZID=Europe/Paris:20211022T230000
DTSTAMP:20260422T102951
CREATED:20211020T181254Z
LAST-MODIFIED:20211020T181656Z
UID:2206-1634929200-1634943600@appledoremusic.co.uk
SUMMARY:Talking the Walk - Refugee Fundraiser
DESCRIPTION:Famed local ceramacist Sandy Brown will be hosting an event to raise money for Taw Community Welcome\, a local refugee support group. The event takes place in Sandy’s studios in New Quay Street\, almost next door to the Appledore Social Club. Just look for the large blue building with “Sandy Brown” painted up high. \nThe event will feature music from Becki Driscoll\, Jules Moberly\, Ricky Knight\, Dave Smale  and Applechorus\, featuring Sandy herself singing sea shanties.  \nThere will also be spoken word performers at this star-studded event. A collection will be taken to support the cause.
URL:https://appledoremusic.co.uk/event/talking-the-walk-refugee-fundraiser/
LOCATION:Sandy Brown’s Studios\, New Quay Street\, Appledore\, Devon\, EX39 1LU\, United Kingdom
ATTACH;FMTTYPE=image/jpeg:https://appledoremusic.co.uk/wp-content/uploads/2021/10/refugee_sandy_feat.jpg
END:VEVENT
END:VCALENDAR